BEGIN:VCALENDAR
VERSION:2.0
PRODID:-//entre—ríos - ECPv6.15.20//NONSGML v1.0//EN
CALSCALE:GREGORIAN
METHOD:PUBLISH
X-WR-CALNAME:entre—ríos
X-ORIGINAL-URL:https://entre-rios.net
X-WR-CALDESC:Eventos para entre—ríos
REFRESH-INTERVAL;VALUE=DURATION:PT1H
X-Robots-Tag:noindex
X-PUBLISHED-TTL:PT1H
BEGIN:VTIMEZONE
TZID:America/Bogota
BEGIN:STANDARD
TZOFFSETFROM:-0500
TZOFFSETTO:-0500
TZNAME:-05
DTSTART:20200101T000000
END:STANDARD
END:VTIMEZONE
BEGIN:VEVENT
DTSTART;VALUE=DATE:20211019
DTEND;VALUE=DATE:20211023
DTSTAMP:20260423T213340
CREATED:20211110T184249Z
LAST-MODIFIED:20211110T184610Z
UID:7859-1634601600-1634947199@entre-rios.net
SUMMARY:INCIPIT TERRA
DESCRIPTION:entre—ríos estará presente en este evento organizado por la curadora e investigadora Ana María Lozano (Pontificia Universidad Javeriana\, Bogotá) en octubre. \nEn palabras de la organizadora\, “El encuentro es una invitación a articular\, a pronunciar juntxs desde el arte y desde el diálogo y la conversación con otras disciplinas y formas de conocimiento\, otros modelos de vida que den paso a otra mirada\, relación\, articulación entre los otros y nosotros. Ponemos sobre la mesa\, como inicio de discusión\, la idea de interdependencia radical\, esto es\, la estructuración de la vida en la Tierra desde la conexión necesidad/intercambio/aporte entre seres vivientes con cerebro y vivientes sin cerebro\, entre seres pluricelulares y seres monocelulares; entre seres de agua y seres de tierra. Entendemos que lo que hace posible la vida en la Tierra es el surtir de la convivencialidad\, de la solidaridad\, de la vida buena para todxsmás que el de la competencia o la rivalidad. Creemos con el filósofo catalán Jordi Pigem\, que somos Homo reciprocansmucho más que Homo economicus. Podemos construir sistemas económicos y sociales que se basen en lo mejor y no en lo peor de la naturaleza humana. La oportunidad de pensar distinto la plantea Arturo Escobar como “la necesidad de abandonar toda pretensión de universalidad y de verdad”\, y en cambio\, plantear “una apertura activa a aquellas otras formas de pensar\, de luchar y de existir que van surgiendo\, a veces con claridad y contundencia\, a veces confusas y titubeantes”. Estas otras formas de pensar\, de sentir están ocurriendo en diferentes partes del globo\, en este momento histórico crítico\, el de la transición a otros climas\, otros mares\, otros ríos\, otros vientos y selvas\, otras ciudades\, otros cuerpos\, otras enfermedades. Se trata de habitar el PachaKuti\, pues de la catástrofe puede renacer una nueva forma de ver-pensar-sentir. La potencia de pensar distinto palpita en la actual crisis dela Tierra. \nINCIPIT TERRA está organizado de forma que tengan presencia:Arte\, cuerpos de agua y cuerpos de tierra \n1.Presentaciones de Tesis de Pregrado y de Posgrado de diversas universidades\, que aborden problemáticas en las que se tejan relacionesentre cuerpos de agua\, cuerpos de tierra\, humanos y no humanos.\n2.Ponencias desarrolladas por pensadores invitados.\n3.Socialización de prácticas pedagógicas artísticas interdisciplinares\n4.Socialización de prácticas comunitarias de pueblos -agua\, de pueblos-territorio\n5.Talleres experimentales desarrollados con un mes de antelación al encuentro\, para poder socializar los resultados en el marco de éste. \nALGUNOS CUERPOS DE AGUA\nOcéanos / Ríos / Lagos / Lagunas / Arroyos / Riachuelos / Jagüeyes / Nacederos /Humedales / Pantanos / Ciénagas / Gotas / Charcos / Cascadas / Represas / Pozos / Embalses / Diques / Comunidades hídricas / Comunidades híbridas / Comunidades indescifrables \nALGUNOS CUERPOS DE TIERRA\nContinentes / Islas / Montañas / Colinas / Cuevas / Desiertos / Costas / Canales / Cabos / Llanuras / Mesetas / Archipiélagos / Canteras / Cordilleras / Acantilados / Cráteres / Polvo / Tierra / Arena / Lodo / Compost / Pueblos Territorio / Cuerpos Territorio / Cuerpos de lodo / Cuerpos enlodados / Cuerposcaídos por tierra
URL:https://entre-rios.net/evento/incipit-terra/
LOCATION:Pontificia Universidad Javeriana\, Pontificia Universidad Javeriana\, Bogota\, Colombia
ATTACH;FMTTYPE=image/jpeg:https://entre-rios.net/wp-content/uploads/2021/11/INCIPIT-TERRA.jpeg
END:VEVENT
END:VCALENDAR