BEGIN:VCALENDAR
VERSION:2.0
PRODID:-//entre—ríos - ECPv6.15.20//NONSGML v1.0//EN
CALSCALE:GREGORIAN
METHOD:PUBLISH
X-ORIGINAL-URL:https://entre-rios.net
X-WR-CALDESC:Eventos para entre—ríos
REFRESH-INTERVAL;VALUE=DURATION:PT1H
X-Robots-Tag:noindex
X-PUBLISHED-TTL:PT1H
BEGIN:VTIMEZONE
TZID:America/Bogota
BEGIN:STANDARD
TZOFFSETFROM:-0500
TZOFFSETTO:-0500
TZNAME:-05
DTSTART:20200101T000000
END:STANDARD
END:VTIMEZONE
BEGIN:VEVENT
DTSTART;TZID=America/Bogota:20211104T140000
DTEND;TZID=America/Bogota:20211104T150000
DTSTAMP:20260423T201215
CREATED:20211103T000054Z
LAST-MODIFIED:20211103T175139Z
UID:7827-1636034400-1636038000@entre-rios.net
SUMMARY:Es torrente y un hilo: Una conversación
DESCRIPTION:Este Jueves 4 de noviembre a las 2pm Colombia Juan Covelli y Lina Useche conversarán con David Medina junto a Lisa Blckmore\, Emilio Chapela y Diego Chocano de entre—ríos sobre el proyecto Es torrente y un hilo\, una obra web que presenta un flujo constante y cuasi-interminable de textos —una colección de composiciones generadas con técnicas de Aprendizaje de Máquinas e Inteligencia Artificial que han sido entrenadas previamente con millones de textos y libros en español—. Cada texto es una composición autónoma e impredecible que empieza a partir de la misma frase del título y que se repite de forma obsesiva en cada capítulo. \nTransmisión por la cuenta de Youtube de Nmenos1 a las 2pm Colombia \nCuraduría\nLisa Blackmore\, Emilio Chapela y Diego Chocoano (entre—ríos)\nJuan Covelli y Lina Useche (Nmenos1)
URL:https://entre-rios.net/evento/es-torrente-y-un-hilo-una-conversacion/
ATTACH;FMTTYPE=image/jpeg:https://entre-rios.net/wp-content/uploads/2021/11/nmenos1fb.jpg
ORGANIZER;CN="entre%E2%80%94r%C3%ADos":MAILTO:entre.rios.info@gmail.com
END:VEVENT
END:VCALENDAR