BEGIN:VCALENDAR
VERSION:2.0
PRODID:-//entre—ríos - ECPv6.15.20//NONSGML v1.0//EN
CALSCALE:GREGORIAN
METHOD:PUBLISH
X-ORIGINAL-URL:https://entre-rios.net
X-WR-CALDESC:Eventos para entre—ríos
REFRESH-INTERVAL;VALUE=DURATION:PT1H
X-Robots-Tag:noindex
X-PUBLISHED-TTL:PT1H
BEGIN:VTIMEZONE
TZID:America/Caracas
BEGIN:STANDARD
TZOFFSETFROM:-0400
TZOFFSETTO:-0400
TZNAME:-04
DTSTART:20200101T000000
END:STANDARD
END:VTIMEZONE
BEGIN:VEVENT
DTSTART;TZID=America/Caracas:20211109T130000
DTEND;TZID=America/Caracas:20211109T143000
DTSTAMP:20260423T201250
CREATED:20211102T235125Z
LAST-MODIFIED:20211103T000806Z
UID:7822-1636462800-1636468200@entre-rios.net
SUMMARY:Confluir con ríos
DESCRIPTION:Lisa Blackmore participa en el ciclo Confluir con ríos\, un programa de estudio en la Universidad Central de Venezuela y en la Universidad Simón Bolívar en Caracas\, presentando entre—ríos a estudiantes y el público en general.El programa de charlas es iniciativa de Elisa Silva\, arquitecta e investigadora venezolana\, quien organizó recientemente un proyecto en Caracas sobre le Río Guaire –el principal cuerpo de agua de la capital venezolana que corre\, canalizado\, por la ciudad en un estado triste de contaminación y olvido. El registro de los recorridos y varios artículos sobre el rio\, el manifiesto del proyecto están publicados en esta plataforma: https://www.rioguaire.org
URL:https://entre-rios.net/evento/confluir-con-rios/
LOCATION:Universidad Central de Venezuela y Universidad Simón Bolívar\, Caracas\, Venezuela
ATTACH;FMTTYPE=image/jpeg:https://entre-rios.net/wp-content/uploads/2021/11/usbweb.jpg
END:VEVENT
END:VCALENDAR