BEGIN:VCALENDAR
VERSION:2.0
PRODID:-//entre—ríos - ECPv6.15.20//NONSGML v1.0//EN
CALSCALE:GREGORIAN
METHOD:PUBLISH
X-ORIGINAL-URL:https://entre-rios.net
X-WR-CALDESC:Eventos para entre—ríos
REFRESH-INTERVAL;VALUE=DURATION:PT1H
X-Robots-Tag:noindex
X-PUBLISHED-TTL:PT1H
BEGIN:VTIMEZONE
TZID:America/Bogota
BEGIN:STANDARD
TZOFFSETFROM:-0500
TZOFFSETTO:-0500
TZNAME:-05
DTSTART:20200101T000000
END:STANDARD
END:VTIMEZONE
BEGIN:VEVENT
DTSTART;TZID=America/Bogota:20211116T110000
DTEND;TZID=America/Bogota:20211116T123000
DTSTAMP:20260423T201911
CREATED:20211115T182217Z
LAST-MODIFIED:20211115T182217Z
UID:7880-1637060400-1637065800@entre-rios.net
SUMMARY:Lanzamiento del libro Cuerpos permeables
DESCRIPTION:Acompáñenos via YouTube Live en el lanzamiento del libro Cuerpos permeables: Páramos\, arte y ciencia en diálogo con las obras de Eulalia De Valdenebro. Lisa Blackmore estará conversando con colaboradores y contribuidores de este proyecto editorial cuyos aportes vienen de varias disciplinas – entre ellas\, el arte\, las ciencias sociales\,el  diseño gráfico\, el derecho y la filosofía.   \nVia YouTube Live – https://www.youtube.com/watch?v=TRLS_X59uCM \n11am hora Colombia
URL:https://entre-rios.net/evento/cuerpos-permeables/
LOCATION:YouTube Live\, Bogota\, Colombia
ATTACH;FMTTYPE=image/jpeg:https://entre-rios.net/wp-content/uploads/2021/11/invitacion_Corpus-PARAMO-lanzamiento-libro.jpg
ORGANIZER;CN="entre%E2%80%94r%C3%ADos":MAILTO:entre.rios.info@gmail.com
END:VEVENT
END:VCALENDAR