BEGIN:VCALENDAR
VERSION:2.0
PRODID:-//entre—ríos - ECPv6.15.20//NONSGML v1.0//EN
CALSCALE:GREGORIAN
METHOD:PUBLISH
X-WR-CALNAME:entre—ríos
X-ORIGINAL-URL:https://entre-rios.net
X-WR-CALDESC:Eventos para entre—ríos
REFRESH-INTERVAL;VALUE=DURATION:PT1H
X-Robots-Tag:noindex
X-PUBLISHED-TTL:PT1H
BEGIN:VTIMEZONE
TZID:Europe/Amsterdam
BEGIN:DAYLIGHT
TZOFFSETFROM:+0100
TZOFFSETTO:+0200
TZNAME:CEST
DTSTART:20230326T010000
END:DAYLIGHT
BEGIN:STANDARD
TZOFFSETFROM:+0200
TZOFFSETTO:+0100
TZNAME:CET
DTSTART:20231029T010000
END:STANDARD
BEGIN:DAYLIGHT
TZOFFSETFROM:+0100
TZOFFSETTO:+0200
TZNAME:CEST
DTSTART:20240331T010000
END:DAYLIGHT
BEGIN:STANDARD
TZOFFSETFROM:+0200
TZOFFSETTO:+0100
TZNAME:CET
DTSTART:20241027T010000
END:STANDARD
BEGIN:DAYLIGHT
TZOFFSETFROM:+0100
TZOFFSETTO:+0200
TZNAME:CEST
DTSTART:20250330T010000
END:DAYLIGHT
BEGIN:STANDARD
TZOFFSETFROM:+0200
TZOFFSETTO:+0100
TZNAME:CET
DTSTART:20251026T010000
END:STANDARD
END:VTIMEZONE
BEGIN:VTIMEZONE
TZID:America/Bogota
BEGIN:STANDARD
TZOFFSETFROM:-0500
TZOFFSETTO:-0500
TZNAME:-05
DTSTART:20230101T000000
END:STANDARD
END:VTIMEZONE
BEGIN:VEVENT
DTSTART;TZID=Europe/Amsterdam:20240426T150000
DTEND;TZID=Europe/Amsterdam:20240428T170000
DTSTAMP:20260423T161528
CREATED:20240408T192710Z
LAST-MODIFIED:20240408T192845Z
UID:13496-1714143600-1714323600@entre-rios.net
SUMMARY:RÍO BOGOTÁ in the Moving Rivers Webinar Series
DESCRIPTION:In this talk\, Laura Giraldo-Martínez\, one of the curators of the RÍO BOGOTÁ project and a PhD candidate on the River Commons project run by Wageningen University\, will share insights into how collective memory takes shape in and also shapes the river basin. Laura will present alongside US-Colombian activist-researcher Arturo Escobar. The webinar will be streamed online via MS Teams with simultaneous translation available.  For more information\, visit: https://movingrivers.org/learn/#moving-rivers-webinar-series \nentre—ríos is proud to be an affiliated partner of Moving Rivers as part of the latter’s expanded network.
URL:https://entre-rios.net/evento/rio-bogota-in-the-moving-rivers-webinar-series/
ATTACH;FMTTYPE=image/jpeg:https://entre-rios.net/wp-content/uploads/2024/04/WhatsApp-Image-2024-04-08-at-08.09.11.jpeg
ORGANIZER;CN="entre%E2%80%94r%C3%ADos":MAILTO:entre.rios.info@gmail.com
END:VEVENT
BEGIN:VEVENT
DTSTART;TZID=America/Bogota:20240427T173000
DTEND;TZID=America/Bogota:20240427T183000
DTSTAMP:20260423T161528
CREATED:20240418T201503Z
LAST-MODIFIED:20240418T201503Z
UID:13534-1714239000-1714242600@entre-rios.net
SUMMARY:Conversatorio Cómo cuidar un río en la Feria del Libro de Bogotá
DESCRIPTION:Les invitamos a acompañarnos el próximo 27 de abril en este conversatorio sobre Cómo cuidar un río (2023)\, durante la @filbogota en el Pabellón Alcaldía Mayor de Bogotá – Leo por naturaleza \nDiego Piñeros García y Laura Giraldo estarán compartiendo sobre el proceso colaborativo de edición de Cómo cuidar un río\, que es fruto de la co-creación de textos de todo el equipo y los colaboradores de la cuenca con Cristina Consuegra \nEsta publicación que también es una exposición móvil\, gracias al diseño anfibio de Juan Pablo Fajardo de Piedra Papel Tijera y los dibujos de Carlos Alfonso. Gracias al diseño digital de @david.medina.a\, todes pueden descargar la publicación desde entre-rios.net/rio-bogota
URL:https://entre-rios.net/evento/conversatorio-como-cuidar-un-rio-en-la-feria-del-libro-de-bogota/
LOCATION:Pabellón Alcaldía Mayor de Bogotá – Leo por naturaleza\, Corferias\, Cra. 37 #24 - 67\, Bogota\, Colombia
ATTACH;FMTTYPE=image/jpeg:https://entre-rios.net/wp-content/uploads/2024/04/015221aa-a57c-4a5c-82fc-7c429415eaef.jpg
ORGANIZER;CN="entre%E2%80%94r%C3%ADos":MAILTO:entre.rios.info@gmail.com
END:VEVENT
END:VCALENDAR